Workbook

Sheet Objetivo Estratégico
A1: #VALUE! | C1: PLAN DE ACCIÓN
A6: Objetivo estratégico | B6: Línea estratégica | C6: Proyecto estratégico | D6: 2026 | E6: 2027 | F6: 2028 | G6: 2029 | H6: Meta cuatrenio | I6: Responsable
A7: Objetivo Estratégico 1: Fortalecer la formación integral, humanista y ciudadana para el desarrollo local y regional. | B7: L1. Formación integral para el desarrollo local, humano y sostenible. | C7: 1.1.1 Matrícula de estudiantes | D7: 80 | E7: 320 | F7: 440 | G7: 660 | H7: =SUM(D7:G7) -> 1500 | I7: Vicerrectoría académica
C8: 1.1.2. Tasa de retención estudiantil | D8: 0 | E8: 0.7 | F8: 0.75 | G8: 0.8 | H8: =G8 -> 0.8 | I8: Bienestar
C9: 1.1.3. Tasa de graduación por cohorte | D9: 0 | E9: 0 | F9: 0 | G9: 0.5 | H9: =G9 -> 0.5 | I9: Vicerrectoría académica
C10: 1.1.4. Programas nuevos aprobados para su apertura | D10: 1 | E10: 4 | F10: 3 | G10: 3 | H10: =SUM(D10:G10) -> 11 | I10: Vicerrectoría académica
C11: 1.1.5. Docentes con formación posgradual (maestría o doctorado) | D11: 0.4 | E11: 0.45 | F11: 0.5 | G11: 0.6 | H11: 0.6 | I11: Talento Humano
C12: 1.1.6 Satisfacción estudiantil con la calidad académica | D12: 0 | E12: 0.8 | F12: 0.82 | G12: 0.85 | H12: =G12 -> 0.85 | I12: Calidad
C13: 1.1.7 Integración de recursos digitales en la docencia | D13: 0.15 | E13: 0.2 | F13: 0.25 | G13: 0.3 | H13: =G13 -> 0.3 | I13: Coordinación de programa
C14: 1.1.8 Nivel de inserción laboral de egresados | D14: 0 | E14: 0 | F14: 0 | G14: 0.4 | H14: 0.4 | I14: Bienestar
A15: Objetivo Estratégico 2: Impulsar la investigación, la innovación y la transferencia del conocimiento como motores de transformación social y desarrollo sostenible. | B15: L2. Ciencia, innovación y conocimiento para la transformación social . | C15: 2.2.1 Grupos de investigación reconocidos por MinCiencias | D15: 2 | E15: 2 | F15: 3 | G15: 5 | H15: =G15 -> 5 | I15: Vicerrectoría académica
C16: 2.2.2 Semilleros de investigación activos | D16: 2 | E16: 6 | F16: 10 | G16: 15 | H16: =G16 -> 15 | I16: Coordinación de programa
C17: 2.2.3 Proyectos de investigación, innovación o de creación artística | D17: 2 | E17: 4 | F17: 6 | G17: 8 | H17: =SUM(D17:G17) -> 20 | I17: Coordinación de programa
C18: 2.2.4 Participación en redes académicas y científicas | D18: 0 | E18: 1 | F18: 3 | G18: 5 | H18: =G18 -> 5 | I18: Vicerrectoría académica
C19: 2.2.5 Productos de nuevo conocimiento de diversas tipologías | D19: 2 | E19: 4 | F19: 8 | G19: 12 | H19: =SUM(D19:G19) -> 26 | I19: Vicerrectoría académica
C20: 2.2.6 Estudiantes vinculados a proyectos de investigación | D20: 2 | E20: 4 | F20: 8 | G20: 8 | H20: =SUM(D20:G20) -> 22 | I20: Coordinación de programa
C21: 2.2.7 Docentes participando en proyectos de investigación o semilleros | D21: 1 | E21: 3 | F21: 6 | G21: 10 | H21: =SUM(D21:G21) -> 20 | I21: Coordinación de programa
C22: 2.2.8 Proyectos de cooperación internacional | D22: 1 | E22: 2 | F22: 4 | G22: 8 | H22: =SUM(D22:G22) -> 15 | I22: Extensión
C23: 2.2.9 Eventos académicos y científicos realizados | D23: 4 | E23: 8 | F23: 8 | G23: 10 | H23: =SUM(D23:G23) -> 30 | I23: Extensión
C24: 2.2.10 Programas de extensión y proyección social | D24: 4 | E24: 8 | F24: 12 | G24: 16 | H24: 40 | I24: Extensión
C25: 2.2.11 Recursos propios generados | D25: 0.08 | E25: 0.08 | F25: 0.08 | G25: 0.08 | H25: =G25 -> 0.08 | I25: Extensión
A26: Objetivo Estratégico 3: Fomentar el bienestar, la diversidad y la identidad universitaria como pilares de la convivencia, la equidad y el desarrollo humano orientada a la sostenibilidad, interculturalidad y protección de la vida | B26: L3. Bienestar, ecosistemas globales, sustentable e interculturales | C26: 3.3.1 Participación en programas de bienestar universitario | D26: 0.3 | E26: 0.4 | F26: 0.5 | G26: 0.65 | H26: =G26 -> 0.65 | I26: Vicerrectoría académica
C27: 3.3.2 Cobertura de atención psicosocial y acompañamiento emocional | D27: 0.2 | E27: 0.3 | F27: 0.45 | G27: 0.55 | H27: 0.55 | I27: Vicerrectoría académica
C28: 3.3.3 Índice de satisfacción con los servicios de bienestar | D28: 0.65 | E28: 0.7 | F28: 0.75 | G28: 0.78 | H28: 0.8 | I28: Vicerrectoría académica
C29: 3.3.4 Implementación de la política de inclusión y diversidad | D29: 0.25 | E29: 0.3 | F29: 0.35 | G29: 0.4 | H29: 0.4 | I29: Vicerrectoría académica
C30: 3.3.5 Accesibilidad física y tecnológica en la institución | D30: 0.2 | E30: 0.3 | F30: 0.4 | G30: 0.5 | H30: 0.5 | I30: Vicerrectoría académica
C31: 3.3.6 Eventos culturales y artísticos institucionales | D31: 5 | E31: 10 | F31: 15 | G31: 20 | H31: 50 | I31: Extensión
C32: 3.3.7 Estudiantes beneficiados con apoyos socioeconómicos | D32: 0.05 | E32: 0.1 | F32: 0.15 | G32: 0.2 | H32: 0.2 | I32: Vicerrectoría académica
C33: 3.3.8 Acciones de promoción de equidad de género y prevención de violencias | D33: 2 | E33: 4 | F33: 6 | G33: 8 | H33: 18 | I33: Vicerrectoría académica
C34: 3.3.9 Nivel de pertenencia e identidad institucional | D34: 0.7 | E34: 0.75 | F34: 0.8 | G34: 0.85 | H34: 0.7 | I34: Calidad
A35: Objetivo Estratégico 4: Consolidar una gobernanza universitaria ética, transparente e inteligente, orientada a la calidad y la sostenibilidad institucional. | B35: L4. Gobernanza, gestión universitaria humanista, digital y sostenible | C35: 4.4.1 Implementación del Sistema Integrado de Gestión Institucional (SIG) | D35: 0.3 | E35: 0.5 | F35: 0.75 | G35: 0.9 | H35: 0.9 | I35: Calidad
C36: 4.4.2 Programa de Transformación Digital: Procesos digitalizados o automatizados | D36: 0.4 | E36: 0.45 | F36: 0.5 | G36: 0.7 | H36: 0.7 | I36: TIC
C37: 4.4.3 Programa de Gestión Documental y Transparencia: Índice de transparencia y acceso a la información | D37: 0.25 | E37: 0.4 | F37: 0.5 | G37: 0.8 | H37: 0.8 | I37: Secretaría general
C38: 4.4.4 Capacitación en ética pública y buen gobierno | D38: 1 | E38: 2 | F38: 3 | G38: 4 | H38: 10 | I38: Talento Humano
C39: 4.4.5 Programa de Fortalecimiento Administrativo: Satisfacción con los servicios administrativos | D39: 0.5 | E39: 0.6 | F39: 0.7 | G39: 0.8 | H39: 0.8 | I39: Talento Humano
C40: 4.4.6 Rendición pública de cuentas anual | D40: 1 | E40: 1 | F40: 1 | G40: 1 | H40: 4 | I40: Comunicaciones
C41: 4.4.7 Gestión de la sostenibilidad financiera | D41: 0.05 | E41: 0.1 | F41: 0.15 | G41: 0.2 | H41: 0.2 | I41: Tesorería
C42: 4.4.8 Implementación de acciones del Plan de transparencia y ética pública | D42: 0.7 | E42: 0.8 | F42: 0.85 | G42: 0.9 | H42: 0.9 | I42: Secretaría general
C43: 4.4.9 Tramites de reconocimiento de calidad institucional | D43: 0.25 | E43: 0.8 | F43: Postulación | G43: Acreditación ISO 21001 | H43: 1 acreditación | I43: Calidad

Sheet L1
A5: Recomendaciones generales para el diligenciamiento del formato "plan de acción / proyecto"
A6: 1. Se recomienda que cada plan o proyecto tenga un máximo de 10 actividades, si necesita agregar más actividades debe insertar más filas.
A7: 2. Se recomienda no combinar las celdas para lograr un mejor uso del formato.
A8: 3. Si usted es responsable de más de un (1) proyecto, debe elaborar cada uno en una hoja independiente. De esta forma, se facilitará la elaboración y el seguimiento.
A9: 3. Si usted es responsable de más de un (1) proyecto, debe elaborar cada uno en una hoja independiente. De esta forma, se facilitará la elaboración y el seguimiento.
A11: Definición y Seguimiento del Plan de Acción o Proyecto
A13: Nombre del objetivo estratégico: | B13: ='Objetivo Estratégico'!A7 -> Objetivo Estratégico 1: Fortalecer la formación integral, humanista y ciudadana para el desarrollo local y regional.
A14: Responsable del Objetivo: | B14: Vicerrector académico
A17: Plan Estratégico 2026 - 2029 *Toda la información que se indica a continuación debe ser tomada del plan estratégico 2026 - 2029 aprobado | H17: Información de las actividades a desarrollar en el 2026
A18: Línea estratégica | B18: Proyecto estratégico | C18: 2026 | D18: 2027 | E18: 2028 | F18: 2029 | G18: Meta cuatrenio | H18: Actividad | I18: Responsable Actividad | J18: Recursos $$$ | K18: Descripción del recurso | L18: Entregable o Producto 2026 | M18: Fecha de Cierre (mm/aaaa) | N18: Evidencias | O18: Semaforo | P18: Observaciones
A19: Seleccionar la línea estratégica a la cual pertenece el proyecto | B19: Seleccionar el proyecto estratégico | C19: Meta para el 2026 | D19: Meta para el 2027 | E19: Meta para el 2028 | F19: Meta para el 2029 | G19: Meta para el 2029 | H19: Indicar las actividades correspondientes al proyecto | I19: Indicar el cargo o cargos responsables por cada actividad | J19: Indicar si necesita recursos adicionales para cumplir la meta | K19: Describa en que consisten los recursos adicionales solicitados | L19: Indicar el entregable o producto por cada actividad | M19: Indicar el mes en que debe ser finalizada cada actividad
A20: ='Objetivo Estratégico'!B7 -> L1. Formación integral para el desarrollo local, humano y sostenible. | B20: ='Objetivo Estratégico'!C7 -> 1.1.1 Matrícula de estudiantes | C20: ='Objetivo Estratégico'!D7 -> 80 | D20: ='Objetivo Estratégico'!E7 -> 320 | E20: ='Objetivo Estratégico'!F7 -> 440 | F20: ='Objetivo Estratégico'!G7 -> 660 | G20: ='Objetivo Estratégico'!H7 -> 1500 | H20: Promoción de programas de la IUBELLO | I20: Comunicaciones | L20: Plan de difusión de programas y avances | M20: 46346
H21: Apoyo con procesos y procedimientos del área de Admisiones, Registro y Control Académico | I21: Autoevaluación y calidad | L21: Documentos con procesos y procedimientos documentados | M21: 46174
H22: Adecuaciones sistema de registro académico | I22: Admisiones y registro | L22: Sistema parametrizado | M22: 46174
H23: Adecuaciones de aulas y laboratorios iniciales | I23: Tecnología | L23: Informe de infraestructura | M23: 46305
H24: Contratación de docentes y coordinación de programa | I24: Vicerrectoría académica | L24: Planilla de contratación académica | M24: 46305
A25: ='Objetivo Estratégico'!B7 -> L1. Formación integral para el desarrollo local, humano y sostenible. | B25: ='Objetivo Estratégico'!C8 -> 1.1.2. Tasa de retención estudiantil | C25: ='Objetivo Estratégico'!D8 -> 0 | D25: ='Objetivo Estratégico'!E8 -> 0.7 | E25: ='Objetivo Estratégico'!F8 -> 0.75 | F25: ='Objetivo Estratégico'!G8 -> 0.8 | G25: ='Objetivo Estratégico'!H8 -> 0.8 | H25: Elaboración de documento con Políticas de Permanencia y Graduación de Estudiantes | I25: Vicerrectoría académica | L25: Documento con Políticas y documento con Acuerdo para Consejo Directivo | M25: 46188
H26: Elaboración de documento con lineamientos para evaluación de docentes | I26: Vicerrectoría académica | L26: Documento con lineamientos para evaluación de docentes | M26: 46188
H27: Elaborar plan de mejoramiento de retención estudiantil | I27: Bienestar y permanencia | L27: Documento con plan de mejoramiento | M27: 46204
A28: ='Objetivo Estratégico'!B7 -> L1. Formación integral para el desarrollo local, humano y sostenible. | B28: ='Objetivo Estratégico'!C9 -> 1.1.3. Tasa de graduación por cohorte | C28: ='Objetivo Estratégico'!D9 -> 0 | D28: ='Objetivo Estratégico'!E9 -> 0 | E28: ='Objetivo Estratégico'!F9 -> 0 | F28: ='Objetivo Estratégico'!G9 -> 0.5 | G28: ='Objetivo Estratégico'!H9 -> 0.5 | H28: Elaboración de documento con Políticas de Permanencia y Graduación de Estudiantes | I28: Vicerrectoría académica | L28: Documento con Políticas y documento con Acuerdo para Consejo Directivo | M28: 46280
A29: ='Objetivo Estratégico'!B7 -> L1. Formación integral para el desarrollo local, humano y sostenible. | B29: ='Objetivo Estratégico'!C10 -> 1.1.4. Programas nuevos aprobados para su apertura | C29: ='Objetivo Estratégico'!D10 -> 1 | D29: ='Objetivo Estratégico'!E10 -> 4 | E29: ='Objetivo Estratégico'!F10 -> 3 | F29: ='Objetivo Estratégico'!G10 -> 3 | G29: ='Objetivo Estratégico'!H10 -> 11 | H29: Realización de completitudes de programas | I29: Vicerrectoría académica | L29: Documentos de completitud | M29: 46371
H30: Proponer nuevos programas para hacer documentos maestros | I30: Vicerrectoría académica | L30: Presentación para consejo directivo | M30: 46188
H31: Atención de visita de pares | I31: Vicerrectoría académica | L31: Presentaciones y logística visita de pares | M31: 46157
H32: Presentación de programas técnicos laborales | I32: Vicerrectoría académica | L32: Documentos maestros técnicos laborales | M32: 46235
H33: Realización de documentos maestros programas MEN | I33: Vicerrectoría académica | L33: Documentos maestros radicados MEN | M33: 46371
A34: ='Objetivo Estratégico'!B7 -> L1. Formación integral para el desarrollo local, humano y sostenible. | B34: ='Objetivo Estratégico'!C11 -> 1.1.5. Docentes con formación posgradual (maestría o doctorado) | C34: ='Objetivo Estratégico'!D11 -> 0.4 | D34: ='Objetivo Estratégico'!E11 -> 0.45 | E34: ='Objetivo Estratégico'!F11 -> 0.5 | F34: ='Objetivo Estratégico'!G11 -> 0.6 | G34: ='Objetivo Estratégico'!H11 -> 0.6 | H34: Política Institucional para contratación docente | I34: Vicerrectoría académica | L34: Documento con lineamientos de contratación académica | M34: 46174
A35: ='Objetivo Estratégico'!B7 -> L1. Formación integral para el desarrollo local, humano y sostenible. | B35: ='Objetivo Estratégico'!C12 -> 1.1.6 Satisfacción estudiantil con la calidad académica | C35: ='Objetivo Estratégico'!D12 -> 0 | D35: ='Objetivo Estratégico'!E12 -> 0.8 | E35: ='Objetivo Estratégico'!F12 -> 0.82 | F35: ='Objetivo Estratégico'!G12 -> 0.85 | G35: ='Objetivo Estratégico'!H12 -> 0.85 | H35: Elaboración de instrumento para medir la satisfacción estudiantil con la calidad académica | I35: Autoevaluación y Calidad | L35: Instrumento validado | M35: 46280
H36: Aplicación de instrumento de satisfacción estudiantil | I36: Autoevaluación y Calidad | L36: Informe de satisfacción estudiantil | M36: 46371
H37: Elaboración de plan de mejoramiento sobre la base de las conclusiones del instrumento. | I37: Autoevaluación y Calidad | L37: Documento de plan de mejoramiento | M37: 46371
A38: ='Objetivo Estratégico'!B7 -> L1. Formación integral para el desarrollo local, humano y sostenible. | B38: ='Objetivo Estratégico'!C13 -> 1.1.7 Integración de recursos digitales en la docencia | C38: ='Objetivo Estratégico'!D13 -> 0.15 | D38: ='Objetivo Estratégico'!E13 -> 0.2 | E38: ='Objetivo Estratégico'!F13 -> 0.25 | F38: ='Objetivo Estratégico'!G13 -> 0.3 | G38: ='Objetivo Estratégico'!H13 -> 0.3 | H38: Definición de cursos a digitalizar | I38: Vicerrectoría académica | L38: Documento con la sección de los cursos a digitalizar | M38: 46188
H39: Generación de lineamientos para contenidos educativos | I39: Vicerrectoría académica | L39: Documento con los lineamientos para la generación de contenidos | M39: 46188
H40: Desarrollo de los contenidos | I40: Vicerrectoría académica | L40: Contenidos implementados en la plataforma | M40: 46371
A41: ='Objetivo Estratégico'!B7 -> L1. Formación integral para el desarrollo local, humano y sostenible. | B41: ='Objetivo Estratégico'!C14 -> 1.1.8 Nivel de inserción laboral de egresados | C41: ='Objetivo Estratégico'!D14 -> 0 | D41: ='Objetivo Estratégico'!E14 -> 0 | E41: ='Objetivo Estratégico'!F14 -> 0 | F41: ='Objetivo Estratégico'!G14 -> 0.4 | G41: ='Objetivo Estratégico'!H14 -> 0.4
J59: LISTA
J60: AVANCE 80% - 100%
J61: AVANCE 50% - 79%
J62: MENOR AL 50%

Sheet L2
A5: Recomendaciones generales para el diligenciamiento del formato "plan de acción / proyecto"
A6: 1. Se recomienda que cada plan o proyecto tenga un máximo de 10 actividades, si necesita agregar más actividades debe insertar más filas.
A7: 2. Se recomienda no combinar las celdas para lograr un mejor uso del formato.
A8: 3. Si usted es responsable de más de un (1) proyecto, debe elaborar cada uno en una hoja independiente. De esta forma, se facilitará la elaboración y el seguimiento.
A9: 3. Si usted es responsable de más de un (1) proyecto, debe elaborar cada uno en una hoja independiente. De esta forma, se facilitará la elaboración y el seguimiento.
A11: Definición y Seguimiento del Plan de Acción o Proyecto
A13: Nombre del objetivo estratégico: | B13: ='Objetivo Estratégico'!A15 -> Objetivo Estratégico 2: Impulsar la investigación, la innovación y la transferencia del conocimiento como motores de transformación social y desarrollo sostenible.
A14: Responsable del Objetivo: | B14: Vicerrector académico
A17: Plan Estratégico 2026 - 2029 *Toda la información que se indica a continuación debe ser tomada del plan estratégico 2026 - 2029 aprobado | H17: Información de las actividades a desarrollar en el 2026
A18: Línea estratégica | B18: Proyecto estratégico | C18: 2026 | D18: 2027 | E18: 2028 | F18: 2029 | G18: Meta cuatrenio | H18: Actividad | I18: Responsable Actividad | J18: Recursos $$$ | K18: Descripción del recurso | L18: Entregable o Producto 2026 | M18: Fecha de Cierre (mm/aaaa) | N18: Evidencias | O18: Semaforo | P18: Observaciones
A19: Seleccionar la línea estratégica a la cual pertenece el proyecto | B19: Seleccionar el proyecto estratégico | C19: Meta para el 2026 | D19: Meta para el 2027 | E19: Meta para el 2028 | F19: Meta para el 2029 | G19: Meta para el 2029 | H19: Indicar las actividades correspondientes al proyecto | I19: Indicar el cargo o cargos responsables por cada actividad | J19: Indicar si necesita recursos adicionales para cumplir la meta | K19: Describa en que consisten los recursos adicionales solicitados | L19: Indicar el entregable o producto por cada actividad | M19: Indicar el mes en que debe ser finalizada cada actividad
A20: ='Objetivo Estratégico'!B15 -> L2. Ciencia, innovación y conocimiento para la transformación social . | B20: ='Objetivo Estratégico'!C15 -> 2.2.1 Grupos de investigación reconocidos por MinCiencias | C20: ='Objetivo Estratégico'!D15 -> 2 | D20: ='Objetivo Estratégico'!E15 -> 2 | E20: ='Objetivo Estratégico'!F15 -> 3 | F20: ='Objetivo Estratégico'!G15 -> 5 | G20: ='Objetivo Estratégico'!H15 -> 5 | H20: Creación de grupo de investigación por parte de Docentes investigadores | I20: Vicerrectoría académica | L20: Formalización mediante formato de creación de grupo de investigación | M20: 46174
H21: Revisión de líneas de investigación | I21: Vicerrectoría académica | L21: Informe de líneas de investigación | M21: 46296
A22: ='Objetivo Estratégico'!B15 -> L2. Ciencia, innovación y conocimiento para la transformación social . | B22: ='Objetivo Estratégico'!C16 -> 2.2.2 Semilleros de investigación activos | C22: ='Objetivo Estratégico'!D16 -> 2 | D22: ='Objetivo Estratégico'!E16 -> 6 | E22: ='Objetivo Estratégico'!F16 -> 10 | F22: ='Objetivo Estratégico'!G16 -> 15 | G22: ='Objetivo Estratégico'!H16 -> 15 | H22: Invitación a estudiantes y docentes para creación de semilleros de investigación | I22: Director de cada Programa | L22: Correos electrónicos; volantes y/o posters publicados | M22: 46296
H23: Crear un semillero de investigación por programa activo | I23: Director de cada Programa | L23: Formalización mediante formato de creación de semillero | M23: 46327
H24: Elaborar plan de trabajo por cada semillero | I24: Docente Coordinador | L24: Documento con plan de trabajo | M24: 46327
A25: ='Objetivo Estratégico'!B15 -> L2. Ciencia, innovación y conocimiento para la transformación social . | B25: ='Objetivo Estratégico'!C17 -> 2.2.3 Proyectos de investigación, innovación o de creación artística | C25: ='Objetivo Estratégico'!D17 -> 2 | D25: ='Objetivo Estratégico'!E17 -> 4 | E25: ='Objetivo Estratégico'!F17 -> 6 | F25: ='Objetivo Estratégico'!G17 -> 8 | G25: ='Objetivo Estratégico'!H17 -> 20 | H25: Formular propuestas de proyectos de investigación aplicada por parte de docente investigador | I25: Docentes investigadores | L25: Documento con Propuestas formuladas
A28: ='Objetivo Estratégico'!B15 -> L2. Ciencia, innovación y conocimiento para la transformación social . | B28: ='Objetivo Estratégico'!C18 -> 2.2.4 Participación en redes académicas y científicas | C28: ='Objetivo Estratégico'!D18 -> 0 | D28: ='Objetivo Estratégico'!E18 -> 1 | E28: ='Objetivo Estratégico'!F18 -> 3 | F28: ='Objetivo Estratégico'!G18 -> 5 | G28: ='Objetivo Estratégico'!H18 -> 5
A38: ='Objetivo Estratégico'!B15 -> L2. Ciencia, innovación y conocimiento para la transformación social . | B38: ='Objetivo Estratégico'!C19 -> 2.2.5 Productos de nuevo conocimiento de diversas tipologías | C38: ='Objetivo Estratégico'!D19 -> 2 | D38: ='Objetivo Estratégico'!E19 -> 4 | E38: ='Objetivo Estratégico'!F19 -> 8 | F38: ='Objetivo Estratégico'!G19 -> 12 | G38: ='Objetivo Estratégico'!H19 -> 26 | H38: Someter a revisión producto 1 de nuevo conocimiento | I38: Vicerrectoría académica | L38: Producto de nuevo conocimiento | M38: 46204
H39: Someter a revisión producto 2 de nuevo conocimiento | I39: Vicerrectoría académica | L39: Producto de nuevo conocimiento | M39: 46296
A40: ='Objetivo Estratégico'!B15 -> L2. Ciencia, innovación y conocimiento para la transformación social . | B40: ='Objetivo Estratégico'!C20 -> 2.2.6 Estudiantes vinculados a proyectos de investigación | C40: ='Objetivo Estratégico'!D20 -> 2 | D40: ='Objetivo Estratégico'!E20 -> 4 | E40: ='Objetivo Estratégico'!F20 -> 8 | F40: ='Objetivo Estratégico'!G20 -> 8 | G40: ='Objetivo Estratégico'!H20 -> 22 | H40: Convocatoria de estudiantes para participar en grupos de investigación | I40: Director de Investigación-Comunicaciones | L40: Comunicados, correos electrónicos, piezas publicatarias con la convocatoria | M40: 46296
H41: Formalización de estudiantes por grupo de investigación | I41: Director de Investigación-Coordinador de grupo de Investigación | L41: Listado de estudiantes caracterizados por grupo de investigación | M41: 46327
H42: Creación de estimulos para estudiantes investigadores | I42: Director de Investigación-Vicerrector Académico | L42: Documento desde Dirección de Investigación con incentivos a estudiantes investigadores | M42: 46235
A43: ='Objetivo Estratégico'!B15 -> L2. Ciencia, innovación y conocimiento para la transformación social . | B43: ='Objetivo Estratégico'!C21 -> 2.2.7 Docentes participando en proyectos de investigación o semilleros | C43: ='Objetivo Estratégico'!D21 -> 1 | D43: ='Objetivo Estratégico'!E21 -> 3 | E43: ='Objetivo Estratégico'!F21 -> 6 | F43: ='Objetivo Estratégico'!G21 -> 10 | G43: ='Objetivo Estratégico'!H21 -> 20 | H43: Presentar propuestas de investigación | I43: Coordinadores de programa | L43: Propuestas presentadas para aprobación | M43: 46296
H44: Aprobación de proyectos de investigación | I44: Vicerrectoría académica | L44: Acta de aprobación de proyectos | M44: 46327
A46: ='Objetivo Estratégico'!B15 -> L2. Ciencia, innovación y conocimiento para la transformación social . | B46: ='Objetivo Estratégico'!C22 -> 2.2.8 Proyectos de cooperación internacional | C46: ='Objetivo Estratégico'!D22 -> 1 | D46: ='Objetivo Estratégico'!E22 -> 2 | E46: ='Objetivo Estratégico'!F22 -> 4 | F46: ='Objetivo Estratégico'!G22 -> 8 | G46: ='Objetivo Estratégico'!H22 -> 15 | H46: Programar movilidad | I46: Director de Extensión | L46: Agenda propuesta | M46: 46068
H47: Realizar movilidad | I47: Director de Extensión | L47: Informe de movilidad académica | M47: 46082
A49: ='Objetivo Estratégico'!B15 -> L2. Ciencia, innovación y conocimiento para la transformación social . | B49: ='Objetivo Estratégico'!C23 -> 2.2.9 Eventos académicos y científicos realizados | C49: ='Objetivo Estratégico'!D23 -> 4 | D49: ='Objetivo Estratégico'!E23 -> 8 | E49: ='Objetivo Estratégico'!F23 -> 8 | F49: ='Objetivo Estratégico'!G23 -> 10 | G49: ='Objetivo Estratégico'!H23 -> 30 | H49: Organización de conferencias de liderazgo de mujeres | I49: Dirección de extensión | L49: Informes de eventos | M49: 46127
H50: Organización de evento ALMA | I50: Dirección de extensión | L50: Informes de eventos | M50: 46127
H51: Conferencia para apertura de programa académico | I51: Dirección de extensión | L51: Informes de eventos | M51: 46235
H52: Capacitación de profesionales en tuberculosis | I52: Dirección de extensión | L52: Informes de eventos | M52: 46235
A59: ='Objetivo Estratégico'!B15 -> L2. Ciencia, innovación y conocimiento para la transformación social . | B59: ='Objetivo Estratégico'!C24 -> 2.2.10 Programas de extensión y proyección social | C59: ='Objetivo Estratégico'!D24 -> 4 | D59: ='Objetivo Estratégico'!E24 -> 8 | E59: ='Objetivo Estratégico'!F24 -> 12 | F59: ='Objetivo Estratégico'!G24 -> 16 | G59: ='Objetivo Estratégico'!H24 -> 40 | H59: Diplomado Liderazgo de Mujeres | I59: Director de Extensión | L59: Informe de diplomados | M59: 46204
H60: Curso industrias 4.0 | I60: Director de Extensión | L60: Informe de curso | M60: 46204
H61: Diplomado en docencia universitaria | I61: Director de Extensión | L61: Informe diplomado | M61: 46327
H62: Taller - Aprendizaje Basado en Proyectos | I62: Director de Extensión | L62: Informe diplomado | M62: 46327
H63: Taller - Comunicación asertiva | I63: Director de Extensión | L63: Informe diplomado | M63: 46327
H64: Diplomado en neuropsicología infantil | I64: Director de Extensión | L64: Informe diplomado | M64: 46143
A65: ='Objetivo Estratégico'!B15 -> L2. Ciencia, innovación y conocimiento para la transformación social . | B65: ='Objetivo Estratégico'!C25 -> 2.2.11 Recursos propios generados | C65: ='Objetivo Estratégico'!D25 -> 0.08 | D65: ='Objetivo Estratégico'!E25 -> 0.08 | E65: ='Objetivo Estratégico'!F25 -> 0.08 | F65: ='Objetivo Estratégico'!G25 -> 0.08 | G65: ='Objetivo Estratégico'!H25 -> 0.08 | H65: Identificación de oportunidades de extensión | I65: Director de Extensión | L65: Informe sobre oportunidades identificadas en las secretarias | M65: 46172
H66: Elaboración de propuestas de extensión | I66: Director de Extensión | L66: Propuestas realizadas | M66: 46371
H67: Realización de visitas a secretarías | I67: Director de Extensión | L67: Actas de visitas | M67: 46233
...

Sheet L3
A5: Recomendaciones generales para el diligenciamiento del formato "plan de acción / proyecto"
A6: 1. Se recomienda que cada plan o proyecto tenga un máximo de 10 actividades, si necesita agregar más actividades debe insertar más filas.
A7: 2. Se recomienda no combinar las celdas para lograr un mejor uso del formato.
A8: 3. Si usted es responsable de más de un (1) proyecto, debe elaborar cada uno en una hoja independiente. De esta forma, se facilitará la elaboración y el seguimiento.
A9: 3. Si usted es responsable de más de un (1) proyecto, debe elaborar cada uno en una hoja independiente. De esta forma, se facilitará la elaboración y el seguimiento.
A11: Definición y Seguimiento del Plan de Acción o Proyecto
A13: Nombre del objetivo estratégico: | B13: ='Objetivo Estratégico'!A26 -> Objetivo Estratégico 3: Fomentar el bienestar, la diversidad y la identidad universitaria como pilares de la convivencia, la equidad y el desarrollo humano orientada a la sostenibilidad, interculturalidad y protección de la vida
A14: Responsable del Objetivo: | B14: Vicerrector académico
A17: Plan Estratégico 2026 - 2029 *Toda la información que se indica a continuación debe ser tomada del plan estratégico 2026 - 2029 aprobado | H17: Información de las actividades a desarrollar en el 2026
A18: Línea estratégica | B18: Proyecto estratégico | C18: 2026 | D18: 2027 | E18: 2028 | F18: 2029 | G18: Meta cuatrenio | H18: Actividad | I18: Responsable Actividad | J18: Recursos $$$ | K18: Descripción del recurso | L18: Entregable o Producto 2026 | M18: Fecha de Cierre (mm/aaaa) | N18: Evidencias | O18: Semaforo | P18: Observaciones
A19: Seleccionar la línea estratégica a la cual pertenece el proyecto | B19: Seleccionar el proyecto estratégico | C19: Meta para el 2026 | D19: Meta para el 2027 | E19: Meta para el 2028 | F19: Meta para el 2029 | G19: Meta para el 2029 | H19: Indicar las actividades correspondientes al proyecto | I19: Indicar el cargo o cargos responsables por cada actividad | J19: Indicar si necesita recursos adicionales para cumplir la meta | K19: Describa en que consisten los recursos adicionales solicitados | L19: Indicar el entregable o producto por cada actividad | M19: Indicar el mes en que debe ser finalizada cada actividad
A20: ='Objetivo Estratégico'!B26 -> L3. Bienestar, ecosistemas globales, sustentable e interculturales | B20: ='Objetivo Estratégico'!C26 -> 3.3.1 Participación en programas de bienestar universitario | C20: ='Objetivo Estratégico'!D26 -> 0.3 | D20: ='Objetivo Estratégico'!E26 -> 0.4 | E20: ='Objetivo Estratégico'!F26 -> 0.5 | F20: ='Objetivo Estratégico'!G26 -> 0.65 | G20: ='Objetivo Estratégico'!H26 -> 0.65 | H20: Planeación de programa inducción | I20: Coordinación de bienestar | L20: Plan de inducción | M20: 46234
H21: Realización de programa de inducción | I21: Coordinación de bienestar | L21: Informe de inducción | M21: 46242
A22: ='Objetivo Estratégico'!B26 -> L3. Bienestar, ecosistemas globales, sustentable e interculturales | B22: ='Objetivo Estratégico'!C27 -> 3.3.2 Cobertura de atención psicosocial y acompañamiento emocional | C22: ='Objetivo Estratégico'!D27 -> 0.2 | D22: ='Objetivo Estratégico'!E27 -> 0.3 | E22: ='Objetivo Estratégico'!F27 -> 0.45 | F22: ='Objetivo Estratégico'!G27 -> 0.55 | G22: ='Objetivo Estratégico'!H27 -> 0.55 | H22: Realización de plan de Sanamente | I22: Coordinación de bienestar | L22: Plan Sanamente | M22: 46256
H23: Programación de acompañamientos psicosociales | I23: Coordinación de bienestar | L23: Agenda de citas | M23: 46263
H24: Preparación espacio para Sanamente | I24: Coordinación de bienestar | L24: Espacio adecuado | M24: 46255
H25: Realización de acompañamientos | I25: Coordinación de bienestar | L25: Bitacora de acompañamientos | M25: 46354
A26: ='Objetivo Estratégico'!B26 -> L3. Bienestar, ecosistemas globales, sustentable e interculturales | B26: ='Objetivo Estratégico'!C28 -> 3.3.3 Índice de satisfacción con los servicios de bienestar | C26: ='Objetivo Estratégico'!D28 -> 0.65 | D26: ='Objetivo Estratégico'!E28 -> 0.7 | E26: ='Objetivo Estratégico'!F28 -> 0.75 | F26: ='Objetivo Estratégico'!G28 -> 0.78 | G26: ='Objetivo Estratégico'!H28 -> 0.8 | H26: Preparación de batería para medición | I26: Coordinación de bienestar | L26: Documento | M26: 46333
H27: Realización de encuestas | I27: Coordinación de bienestar | L27: Encuestas | M27: 46340
H28: Análisis y evaluación de encuestas | I28: Coordinación de bienestar | L28: Informe de la medición | M28: 46354
H29: Plan de mejora derivado de las encuestas | I29: Coordinación de bienestar | L29: Plan de mejora | M29: 46361
A31: ='Objetivo Estratégico'!B26 -> L3. Bienestar, ecosistemas globales, sustentable e interculturales | B31: ='Objetivo Estratégico'!C29 -> 3.3.4 Implementación de la política de inclusión y diversidad | C31: ='Objetivo Estratégico'!D29 -> 0.25 | D31: ='Objetivo Estratégico'!E29 -> 0.3 | E31: ='Objetivo Estratégico'!F29 -> 0.35 | F31: ='Objetivo Estratégico'!G29 -> 0.4 | G31: ='Objetivo Estratégico'!H29 -> 0.4 | H31: Realización de política | I31: Coordinación de bienestar | L31: Política aprobada | M31: 46284
H32: Plan derivado de la política | I32: Coordinación de bienestar | L32: Plan | M32: 46291
H33: Evaluación y mejora del plan | I33: Coordinación de bienestar | L33: Informe del plan | M33: 46361
A34: ='Objetivo Estratégico'!B26 -> L3. Bienestar, ecosistemas globales, sustentable e interculturales | B34: ='Objetivo Estratégico'!C30 -> 3.3.5 Accesibilidad física y tecnológica en la institución | C34: ='Objetivo Estratégico'!D30 -> 0.2 | D34: ='Objetivo Estratégico'!E30 -> 0.3 | E34: ='Objetivo Estratégico'!F30 -> 0.4 | F34: ='Objetivo Estratégico'!G30 -> 0.5 | G34: ='Objetivo Estratégico'!H30 -> 0.5 | H34: Evaluación de espacios | I34: Dirección administrativa | L34: Informe sobrer espacios a adecuar | M34: 46265
H35: Implementación de Rampa | I35: Dirección administrativa | L35: Espacios adecuados | M35: 46265
H36: Implementación de baño para discapacidad | I36: Dirección administrativa | L36: Espacios adecuados | M36: 46325
A37: ='Objetivo Estratégico'!B26 -> L3. Bienestar, ecosistemas globales, sustentable e interculturales | B37: ='Objetivo Estratégico'!C31 -> 3.3.6 Eventos culturales y artísticos institucionales | C37: ='Objetivo Estratégico'!D31 -> 5 | D37: ='Objetivo Estratégico'!E31 -> 10 | E37: ='Objetivo Estratégico'!F31 -> 15 | F37: ='Objetivo Estratégico'!G31 -> 20 | G37: ='Objetivo Estratégico'!H31 -> 50 | H37: Realización de agenda de eventos culturales | I37: Coordinación de bienestar | L37: Agenda cultural
H38: Ejecución de eventos culturales | I38: Coordinación de bienestar | L38: Informe de eventos culturales
A39: ='Objetivo Estratégico'!B26 -> L3. Bienestar, ecosistemas globales, sustentable e interculturales | B39: ='Objetivo Estratégico'!C32 -> 3.3.7 Estudiantes beneficiados con apoyos socioeconómicos | C39: ='Objetivo Estratégico'!D32 -> 0.05 | D39: ='Objetivo Estratégico'!E32 -> 0.1 | E39: ='Objetivo Estratégico'!F32 -> 0.15 | F39: ='Objetivo Estratégico'!G32 -> 0.2 | G39: ='Objetivo Estratégico'!H32 -> 0.2 | H39: Realización de política | I39: Coordinación de bienestar | L39: Política aprobada | M39: 46298
H40: Realización de plan | I40: Coordinación de bienestar | L40: Plan de beneficios | M40: 46312
H41: Primera convocatoria | I41: Coordinación de bienestar | L41: Convocatoria | M41: 46319
H42: Asignación de convocatoria | I42: Coordinación de bienestar | L42: Informe de beneficiados | M42: 46333
H43: Evaluación y mejoras de la actividad | I43: Coordinación de bienestar | L43: Informe de la iniciativa | M43: 46340
A44: ='Objetivo Estratégico'!B26 -> L3. Bienestar, ecosistemas globales, sustentable e interculturales | B44: ='Objetivo Estratégico'!C33 -> 3.3.8 Acciones de promoción de equidad de género y prevención de violencias | C44: ='Objetivo Estratégico'!D33 -> 2 | D44: ='Objetivo Estratégico'!E33 -> 4 | E44: ='Objetivo Estratégico'!F33 -> 6 | F44: ='Objetivo Estratégico'!G33 -> 8 | G44: ='Objetivo Estratégico'!H33 -> 18 | H44: Realización de campaña de comunicación para la prevención de violencias | I44: Comunicaciones | L44: Piezas de difusión | M44: 46346 | O44: MENOR AL 50%
H45: Plan de curso sobre equidad de genero y violencias | I45: Coordinación de bienestar | L45: Plan de curso | M45: 46298
H46: Realización de capacitación sobre equidad de genero y violencias | I46: Coordinación de bienestar | L46: Curso dictado | M46: 46361
H47: Evaluación de curso | I47: Coordinación de bienestar | L47: Informe de evaluación | M47: 46368
A48: ='Objetivo Estratégico'!B26 -> L3. Bienestar, ecosistemas globales, sustentable e interculturales | B48: ='Objetivo Estratégico'!C34 -> 3.3.9 Nivel de pertenencia e identidad institucional | C48: ='Objetivo Estratégico'!D34 -> 0.7 | D48: ='Objetivo Estratégico'!E34 -> 0.75 | E48: ='Objetivo Estratégico'!F34 -> 0.8 | F48: ='Objetivo Estratégico'!G34 -> 0.85 | G48: ='Objetivo Estratégico'!H34 -> 0.7 | H48: Realización de instrumento para diagnostico | I48: Calidad | L48: Informe diagnostico | M48: 46264
H49: Apliación de encuesta diagnostica | I49: Calidad | L49: Encuesta | M49: 46295
...

Sheet L4
C1: PLAN DE ACCIÓN 2026
A5: Recomendaciones generales para el diligenciamiento del formato "plan de acción / proyecto"
A6: 1. Se recomienda que cada plan o proyecto tenga un máximo de 10 actividades, si necesita agregar más actividades debe insertar más filas.
A7: 2. Se recomienda no combinar las celdas para lograr un mejor uso del formato.
A8: 3. Si usted es responsable de más de un (1) proyecto, debe elaborar cada uno en una hoja independiente. De esta forma, se facilitará la elaboración y el seguimiento.
A9: 3. Si usted es responsable de más de un (1) proyecto, debe elaborar cada uno en una hoja independiente. De esta forma, se facilitará la elaboración y el seguimiento.
A11: Definición y Seguimiento del Plan de Acción o Proyecto
A13: Nombre del objetivo estratégico: | B13: ='Objetivo Estratégico'!A35 -> Objetivo Estratégico 4: Consolidar una gobernanza universitaria ética, transparente e inteligente, orientada a la calidad y la sostenibilidad institucional.
A14: Responsable del Objetivo: | B14: Coordinador Administrativo
A17: Plan Estratégico 2026 - 2029 *Toda la información que se indica a continuación debe ser tomada del plan estratégico 2026 - 2029 aprobado | H17: Información de las actividades a desarrollar en el 2026
A18: Línea estratégica | B18: Proyecto estratégico | C18: 2026 | D18: 2027 | E18: 2028 | F18: 2029 | G18: Meta cuatrenio | H18: Actividad | I18: Responsable Actividad | J18: Recursos $$$ | K18: Descripción del recurso | L18: Entregable o Producto 2026 | M18: Fecha de Cierre (mm/aaaa) | N18: Evidencias | O18: Semaforo | P18: Observaciones | R18: FECHA SGUIMIENTO
A19: Seleccionar la línea estratégica a la cual pertenece el proyecto | B19: Seleccionar el proyecto estratégico | C19: Meta para el 2026 | D19: Meta para el 2027 | E19: Meta para el 2028 | F19: Meta para el 2029 | G19: Meta para el 2029 | H19: Indicar las actividades correspondientes al proyecto | I19: Indicar el cargo o cargos responsables por cada actividad | J19: Indicar si necesita recursos adicionales para cumplir la meta | K19: Describa en que consisten los recursos adicionales solicitados | L19: Indicar el entregable o producto por cada actividad | M19: Indicar el mes en que debe ser finalizada cada actividad
A20: ='Objetivo Estratégico'!B35 -> L4. Gobernanza, gestión universitaria humanista, digital y sostenible | B20: ='Objetivo Estratégico'!C35 -> 4.4.1 Implementación del Sistema Integrado de Gestión Institucional (SIG) | C20: ='Objetivo Estratégico'!D26 -> 0.3 | D20: ='Objetivo Estratégico'!E26 -> 0.4 | E20: ='Objetivo Estratégico'!F26 -> 0.5 | F20: ='Objetivo Estratégico'!G26 -> 0.65 | G20: ='Objetivo Estratégico'!H26 -> 0.65 | H20: Diagnóstico institucional de procesos (académicos, administrativos y estratégicos) | I20: Oficina de Planeación | J20: $ | K20: Equipo técnico interno | L20: Informe diagnóstico SIG | M20: 46082 | N20: Resolucion 033 de 2026 SIG.pdf | O20: AVANCE 80% - 100%
H21: Diseño del modelo SIG (calidad, control interno, gestión por procesos) | I21: Planeación | J21: $$ | K21: Asesoría técnica / metodológica | L21: Documento SIG institucional | M21: 46143 | N21: Resolucion 033 de 2026 SIG.pdf | O21: AVANCE 80% - 100%
H22: Definición del mapa de procesos institucional (enfoque por procesos) | I22: Planeación | J22: $ | K22: Mesas de trabajo | L22: Mapa de procesos aprobado | M22: 46265 | N22: Organigrama y mapa de procesos.pdf | O22: AVANCE 80% - 100%
H23: Definición de políticas institucionales (calidad, riesgos, mejora continua) | I23: Rectoría | J23: $ | K23: Jornadas institucionales | L23: Políticas adoptadas | M23: 46204 | N23: Normograma RECTORIA.xlsx | O23: AVANCE 50% - 79%
H24: Diseño del sistema de indicadores (alineado al PDI) | I24: Planeación | J24: $ | K24: Herramientas de seguimiento | L24: Matriz de indicadores | M24: 46265 | N24: MATRIZ INDICADORES INSTITUCIONALES V2.xlsx | O24: AVANCE 80% - 100%
H25: Implementación inicial del sistema de información institucional (SIG digital) | I25: Planeación | J25: $$$ | K25: Software / desarrollo / licencias | L25: Plataforma fase 1 operativa | M25: 46327 | O25: MENOR AL 50%
H26: Definición de roles y responsabilidades del SIG (según estructura orgánica) | I26: Planeación | J26: $ | K26: Asignación funcional (planta global) | L26: Acto administrativo / matriz de roles | M26: 46266 | N26: 7. Socializacion de Manual de funciones V2 (1).docx | O26: AVANCE 80% - 100%
H27: Capacitación institucional en cultura de calidad y gestión por procesos | I27: Talento Humano | J27: $ | K27: Capacitaciones | L27: Funcionarios formados | M27: 46367 | O27: AVANCE 50% - 79% | P27: no se ha avnazado pedir a educacion continua diseño de capacitaciones . Articulacion con planeacion
H28: Implementación piloto del SIG en procesos priorizados | I28: Planeación | J28: $$ | K28: Acompañamiento técnico | L28: Informe piloto | M28: 46327 | N28: FICHA DE CARATERIZACION PROCESO DE PLANEACION V1.docx | O28: AVANCE 50% - 79% | P28: Mapa de proceso - ficha de caracterizacion de proceso y/o subprocesos - matriz de riesgos ( alineados con MIPG y MECI ) PLANEACION
H29: Diseño del sistema de seguimiento y evaluación institucional | I29: Planeación | J29: $ | K29: Metodología | L29: Sistema definido | M29: 46327 | O29: MENOR AL 50% | P29: Encuestas - elaboracion de documento y plan de mejoramiento
A30: ='Objetivo Estratégico'!B35 -> L4. Gobernanza, gestión universitaria humanista, digital y sostenible | B30: ='Objetivo Estratégico'!C36 -> 4.4.2 Programa de Transformación Digital: Procesos digitalizados o automatizados | C30: ='Objetivo Estratégico'!D27 -> 0.2 | D30: ='Objetivo Estratégico'!E27 -> 0.3 | E30: ='Objetivo Estratégico'!F27 -> 0.45 | F30: ='Objetivo Estratégico'!G27 -> 0.55 | G30: ='Objetivo Estratégico'!H27 -> 0.55 | H30: Diagnóstico de madurez digital institucional | I30: Planeación | J30: $ | K30: Equipo técnico / herramientas diagnóstico | L30: Informe de madurez digital | M30: 46323 | O30: MENOR AL 50% | P30: Encuestas - elaboracion documento y recomendaciones
H31: Identificación y priorización de procesos a digitalizar | I31: Planeación | J31: $ | K31: Mesas de trabajo | L31: Lista priorizada de procesos | M31: 46325 | N31: SAFIX Y EDUCATIC | O31: AVANCE 80% - 100% | P31: priorizar ( admision- registro y control academico / area financiera / contratación EDUCATIC inscrpcion matricula - sitema finaciero
H32: Diseño de la arquitectura tecnológica institucional | I32: TIC | J32: $$ | K32: Asesoría / diseño TI | L32: Documento arquitectura TI | M32: 46296 | O32: MENOR AL 50%
H33: Diseño PETI (roadmap 2026–2029) | I33: TIC | J33: $ | K33: Planeación estratégica | L33: Plan aprobado | M33: 46296 | O33: MENOR AL 50% | P33: DISEÑO DEL PLAN ESTRATEGICO DE TECNOLOGIAS DE LA INFORMACION
H34: Implementación inicial de herramientas digitales (gestión documental, trámites, etc.) | I34: Planeación | J34: $$$ | K34: Software / licencias | L34: Herramientas implementadas (fase 1) | M34: 46371 | O34: MENOR AL 50%
H35: Digitalización de procesos prioritarios (fase piloto) | I35: Planeación | J35: $$ | K35: Desarrollo / configuración | L35: Procesos digitalizados (piloto) | M35: 46327 | O35: MENOR AL 50%
H36: Capacitación en competencias digitales para funcionarios | I36: Talento Humano | J36: $ | K36: Capacitaciones | L36: Personal capacitado | M36: 46356 | O36: AVANCE 50% - 79% | P36: se realizaron acercamientos con caja de compesacion
H37: Implementación de servicios digitales al usuario (trámites básicos) | I37: TIC | J37: $$ | K37: Plataforma / portal | L37: Servicios digitales habilitados | M37: 46327 | N37: PAGINA WEB https://iubello.edu.co/ | O37: AVANCE 50% - 79%
H38: Evaluación del avance de transformación digital (20%) | I38: TIC | J38: $ | K38: Seguimiento | L38: Informe de avance 2026 | M38: 46357 | O38: MENOR AL 50%
A39: ='Objetivo Estratégico'!B35 -> L4. Gobernanza, gestión universitaria humanista, digital y sostenible | B39: ='Objetivo Estratégico'!C37 -> 4.4.3 Programa de Gestión Documental y Transparencia: Índice de transparencia y acceso a la información | C39: ='Objetivo Estratégico'!D28 -> 0.65 | D39: ='Objetivo Estratégico'!E28 -> 0.7 | E39: ='Objetivo Estratégico'!F28 -> 0.75 | F39: ='Objetivo Estratégico'!G28 -> 0.78 | G39: ='Objetivo Estratégico'!H28 -> 0.8 | H39: Diagnóstico del estado de gestión documental y cumplimiento de transparencia | I39: Secretaría General | J39: $ | K39: Revisión normativa y técnica | L39: Informe diagnóstico | M39: 46235 | N39: Informe | O39: AVANCE 80% - 100% | P39: INFORME DIAGNOSTICO PROYECTADO
H40: Actualización del Programa de Gestión Documental (PGD) | I40: Secretaría General | J40: $ | K40: Equipo técnico | L40: PGD actualizado | M40: 46235 | N40: PDG Actualizado | O40: AVANCE 80% - 100%
H41: Elaboración y/o actualización de Tablas de Retención Documental (TRD) | I41: Gestión Documental | J41: $$ | K41: Asesoría archivística | L41: TRD aprobadas | M41: 46368 | O41: MENOR AL 50%
H42: Implementación del Sistema de Gestión Documental (físico y digital) | I42: Secretaría General | J42: $$$ | K42: Software + archivo | L42: Sistema implementado | M42: 46356 | O42: MENOR AL 50%
H43: Organización y digitalización de archivos institucionales | I43: Gestión Documental | J43: $$ | K43: Personal + herramientas | L43: Archivos organizados | M43: 46356 | O43: AVANCE 50% - 79%
H44: Fortalecimiento del portal de transparencia institucional | I44: Secretaría General | J44: $ | K44: Plataforma web | L44: Portal actualizado | M44: 46266 | N44: pagina WEB | O44: AVANCE 80% - 100% | P44: Portal actualizado
H45: Publicación de información obligatoria (Ley de Transparencia) | I45: Secretaría General | J45: $ | K45: Gestión documental | L45: Información publicada | M45: 46296 | N45: Pagina WEB | O45: AVANCE 80% - 100% | P45: Informacion actualizada (ITA)
H46: Capacitación en gestión documental y acceso a la información | I46: Talento Humano | J46: $ | K46: Capacitaciones | L46: Funcionarios capacitados | M46: 46356 | O46: MENOR AL 50% | P46: articulacion con secretaria general, aun no avanza
H47: Implementación de mecanismos de atención al ciudadano (PQRSD) | I47: Secretaría General | J47: $ | K47: Herramientas digitales | L47: Sistema PQRSD funcionando | M47: 46327 | N47: Pagina Web | O47: AVANCE 80% - 100% | P47: Sistema PQRSD funcionando
...

Sheet Tablero L4
A1: LÍNEA ESTRATÉGICA 4 · GOBERNANZA, GESTIÓN UNIVERSITARIA HUMANISTA, DIGITAL Y SOSTENIBLE
A4: Plan de Acción 2026 · Objetivo Estratégico 4 · 9 proyectos estratégicos y 78 actividades
B6: ACTIVIDADES | D6: AVANCE ESTIMADO | F6: EN ROJO (<50%) | H6: CIERRAN NOV–DIC | J6: SIN EVIDENCIA | L6: PROYECTOS CRÍTICOS
B7: =COUNTA('L4'!$O$20:$O$97) -> 78 | D7: =$V$30 -> 0.47564103 | F7: =COUNTIF('L4'!$O$20:$O$97,"MENOR*") -> 44 | H7: =COUNTIFS('L4'!$M$20:$M$97,">="&DATE(2026,11,1)) -> 40 | J7: =COUNTA('L4'!$O$20:$O$97)-COUNTA('L4'!$N$20:$N$97) -> 53 | L7: =COUNTIF($W$21:$W$29,"Crítico") -> 5
B8: en la línea 4 | D8: ponderado por semáforo | F8: actividades rezagadas | H8: de 78 programadas | J8: sin soporte cargado | L8: de 9 proyectos
Q18: DATOS QUE ALIMENTAN LOS GRÁFICOS
Q19: Se recalculan solos desde la hoja L4 al actualizar la columna Semáforo. No digite valores aquí.
Q20: Proyecto estratégico | R20: ≥ 80% | S20: 50–79% | T20: < 50% | U20: Actividades | V20: Avance est. | W20: Estado
Q21: 4.4.1 Sistema Integrado de Gestión | R21: =COUNTIF('L4'!$O$20:$O$29,"AVANCE 80*") -> 5 | S21: =COUNTIF('L4'!$O$20:$O$29,"AVANCE 50*") -> 3 | T21: =COUNTIF('L4'!$O$20:$O$29,"MENOR*") -> 2 | U21: =SUM(R21:T21) -> 10 | V21: =IFERROR((R21*0.9+S21*0.65+T21*0.25)/U21,"") -> 0.695 | W21: =IF(V21="","Sin dato",IF(V21>=0.8,"En meta",IF(V21>=0.6,"Atención",IF(V21>=0.45,"Rezagado","Crítico")))) -> Atención
Q22: 4.4.2 Transformación Digital | R22: =COUNTIF('L4'!$O$30:$O$38,"AVANCE 80*") -> 1 | S22: =COUNTIF('L4'!$O$30:$O$38,"AVANCE 50*") -> 2 | T22: =COUNTIF('L4'!$O$30:$O$38,"MENOR*") -> 6 | U22: =SUM(R22:T22) -> 9 | V22: =IFERROR((R22*0.9+S22*0.65+T22*0.25)/U22,"") -> 0.41111111 | W22: =IF(V22="","Sin dato",IF(V22>=0.8,"En meta",IF(V22>=0.6,"Atención",IF(V22>=0.45,"Rezagado","Crítico")))) -> Crítico
Q23: 4.4.3 Gestión Documental y Transparencia | R23: =COUNTIF('L4'!$O$39:$O$48,"AVANCE 80*") -> 6 | S23: =COUNTIF('L4'!$O$39:$O$48,"AVANCE 50*") -> 1 | T23: =COUNTIF('L4'!$O$39:$O$48,"MENOR*") -> 3 | U23: =SUM(R23:T23) -> 10 | V23: =IFERROR((R23*0.9+S23*0.65+T23*0.25)/U23,"") -> 0.68 | W23: =IF(V23="","Sin dato",IF(V23>=0.8,"En meta",IF(V23>=0.6,"Atención",IF(V23>=0.45,"Rezagado","Crítico")))) -> Atención
Q24: 4.4.4 Ética Pública y Buen Gobierno | R24: =COUNTIF('L4'!$O$49:$O$57,"AVANCE 80*") -> 2 | S24: =COUNTIF('L4'!$O$49:$O$57,"AVANCE 50*") -> 4 | T24: =COUNTIF('L4'!$O$49:$O$57,"MENOR*") -> 3 | U24: =SUM(R24:T24) -> 9 | V24: =IFERROR((R24*0.9+S24*0.65+T24*0.25)/U24,"") -> 0.57222222 | W24: =IF(V24="","Sin dato",IF(V24>=0.8,"En meta",IF(V24>=0.6,"Atención",IF(V24>=0.45,"Rezagado","Crítico")))) -> Rezagado
Q25: 4.4.5 Fortalecimiento Administrativo | R25: =COUNTIF('L4'!$O$58:$O$65,"AVANCE 80*") -> 0 | S25: =COUNTIF('L4'!$O$58:$O$65,"AVANCE 50*") -> 3 | T25: =COUNTIF('L4'!$O$58:$O$65,"MENOR*") -> 5 | U25: =SUM(R25:T25) -> 8 | V25: =IFERROR((R25*0.9+S25*0.65+T25*0.25)/U25,"") -> 0.4 | W25: =IF(V25="","Sin dato",IF(V25>=0.8,"En meta",IF(V25>=0.6,"Atención",IF(V25>=0.45,"Rezagado","Crítico")))) -> Crítico
Q26: 4.4.6 Rendición de Cuentas | R26: =COUNTIF('L4'!$O$66:$O$73,"AVANCE 80*") -> 0 | S26: =COUNTIF('L4'!$O$66:$O$73,"AVANCE 50*") -> 1 | T26: =COUNTIF('L4'!$O$66:$O$73,"MENOR*") -> 7 | U26: =SUM(R26:T26) -> 8 | V26: =IFERROR((R26*0.9+S26*0.65+T26*0.25)/U26,"") -> 0.3 | W26: =IF(V26="","Sin dato",IF(V26>=0.8,"En meta",IF(V26>=0.6,"Atención",IF(V26>=0.45,"Rezagado","Crítico")))) -> Crítico
Q27: 4.4.7 Sostenibilidad Financiera | R27: =COUNTIF('L4'!$O$74:$O$83,"AVANCE 80*") -> 0 | S27: =COUNTIF('L4'!$O$74:$O$83,"AVANCE 50*") -> 1 | T27: =COUNTIF('L4'!$O$74:$O$83,"MENOR*") -> 9 | U27: =SUM(R27:T27) -> 10 | V27: =IFERROR((R27*0.9+S27*0.65+T27*0.25)/U27,"") -> 0.29 | W27: =IF(V27="","Sin dato",IF(V27>=0.8,"En meta",IF(V27>=0.6,"Atención",IF(V27>=0.45,"Rezagado","Crítico")))) -> Crítico
Q28: 4.4.8 Plan de Transparencia | R28: =COUNTIF('L4'!$O$84:$O$88,"AVANCE 80*") -> 1 | S28: =COUNTIF('L4'!$O$84:$O$88,"AVANCE 50*") -> 1 | T28: =COUNTIF('L4'!$O$84:$O$88,"MENOR*") -> 3 | U28: =SUM(R28:T28) -> 5 | V28: =IFERROR((R28*0.9+S28*0.65+T28*0.25)/U28,"") -> 0.46 | W28: =IF(V28="","Sin dato",IF(V28>=0.8,"En meta",IF(V28>=0.6,"Atención",IF(V28>=0.45,"Rezagado","Crítico")))) -> Rezagado
Q29: 4.4.9 Reconocimiento de Calidad | R29: =COUNTIF('L4'!$O$89:$O$97,"AVANCE 80*") -> 1 | S29: =COUNTIF('L4'!$O$89:$O$97,"AVANCE 50*") -> 2 | T29: =COUNTIF('L4'!$O$89:$O$97,"MENOR*") -> 6 | U29: =SUM(R29:T29) -> 9 | V29: =IFERROR((R29*0.9+S29*0.65+T29*0.25)/U29,"") -> 0.41111111 | W29: =IF(V29="","Sin dato",IF(V29>=0.8,"En meta",IF(V29>=0.6,"Atención",IF(V29>=0.45,"Rezagado","Crítico")))) -> Crítico
Q30: TOTAL LÍNEA 4 | R30: =SUM(R21:R29) -> 16 | S30: =SUM(S21:S29) -> 18 | T30: =SUM(T21:T29) -> 44 | U30: =SUM(U21:U29) -> 78 | V30: =IFERROR((R30*0.9+S30*0.65+T30*0.25)/U30,"") -> 0.47564103 | W30: =IF(V30>=0.8,"En meta",IF(V30>=0.6,"Atención",IF(V30>=0.45,"Rezagado","Crítico"))) -> Rezagado
Q32: ESTADO GLOBAL
Q33: Estado | R33: Actividades
Q34: Avance 80% – 100% | R34: =COUNTIF('L4'!$O$20:$O$97,"AVANCE 80*") -> 16
Q35: Avance 50% – 79% | R35: =COUNTIF('L4'!$O$20:$O$97,"AVANCE 50*") -> 18
Q36: Menor al 50% | R36: =COUNTIF('L4'!$O$20:$O$97,"MENOR*") -> 44
Q38: CIERRES PROGRAMADOS 2026
Q39: Mes de cierre | R39: ≥ 80% | S39: 50–79% | T39: < 50%
Q40: Mar | R40: =COUNTIFS('L4'!$M$20:$M$97,">="&DATE(2026,3,1),'L4'!$M$20:$M$97,"<"&DATE(2026,4,1),'L4'!$O$20:$O$97,"AVANCE 80*") -> 1 | S40: =COUNTIFS('L4'!$M$20:$M$97,">="&DATE(2026,3,1),'L4'!$M$20:$M$97,"<"&DATE(2026,4,1),'L4'!$O$20:$O$97,"AVANCE 50*") -> 0 | T40: =COUNTIFS('L4'!$M$20:$M$97,">="&DATE(2026,3,1),'L4'!$M$20:$M$97,"<"&DATE(2026,4,1),'L4'!$O$20:$O$97,"MENOR*") -> 0
Q41: Abr | R41: =COUNTIFS('L4'!$M$20:$M$97,">="&DATE(2026,4,1),'L4'!$M$20:$M$97,"<"&DATE(2026,5,1),'L4'!$O$20:$O$97,"AVANCE 80*") -> 0 | S41: =COUNTIFS('L4'!$M$20:$M$97,">="&DATE(2026,4,1),'L4'!$M$20:$M$97,"<"&DATE(2026,5,1),'L4'!$O$20:$O$97,"AVANCE 50*") -> 0 | T41: =COUNTIFS('L4'!$M$20:$M$97,">="&DATE(2026,4,1),'L4'!$M$20:$M$97,"<"&DATE(2026,5,1),'L4'!$O$20:$O$97,"MENOR*") -> 0
Q42: May | R42: =COUNTIFS('L4'!$M$20:$M$97,">="&DATE(2026,5,1),'L4'!$M$20:$M$97,"<"&DATE(2026,6,1),'L4'!$O$20:$O$97,"AVANCE 80*") -> 1 | S42: =COUNTIFS('L4'!$M$20:$M$97,">="&DATE(2026,5,1),'L4'!$M$20:$M$97,"<"&DATE(2026,6,1),'L4'!$O$20:$O$97,"AVANCE 50*") -> 0 | T42: =COUNTIFS('L4'!$M$20:$M$97,">="&DATE(2026,5,1),'L4'!$M$20:$M$97,"<"&DATE(2026,6,1),'L4'!$O$20:$O$97,"MENOR*") -> 2
Q43: Jun | R43: =COUNTIFS('L4'!$M$20:$M$97,">="&DATE(2026,6,1),'L4'!$M$20:$M$97,"<"&DATE(2026,7,1),'L4'!$O$20:$O$97,"AVANCE 80*") -> 1 | S43: =COUNTIFS('L4'!$M$20:$M$97,">="&DATE(2026,6,1),'L4'!$M$20:$M$97,"<"&DATE(2026,7,1),'L4'!$O$20:$O$97,"AVANCE 50*") -> 0 | T43: =COUNTIFS('L4'!$M$20:$M$97,">="&DATE(2026,6,1),'L4'!$M$20:$M$97,"<"&DATE(2026,7,1),'L4'!$O$20:$O$97,"MENOR*") -> 0
Q44: Jul | R44: =COUNTIFS('L4'!$M$20:$M$97,">="&DATE(2026,7,1),'L4'!$M$20:$M$97,"<"&DATE(2026,8,1),'L4'!$O$20:$O$97,"AVANCE 80*") -> 0 | S44: =COUNTIFS('L4'!$M$20:$M$97,">="&DATE(2026,7,1),'L4'!$M$20:$M$97,"<"&DATE(2026,8,1),'L4'!$O$20:$O$97,"AVANCE 50*") -> 1 | T44: =COUNTIFS('L4'!$M$20:$M$97,">="&DATE(2026,7,1),'L4'!$M$20:$M$97,"<"&DATE(2026,8,1),'L4'!$O$20:$O$97,"MENOR*") -> 1
Q45: Ago | R45: =COUNTIFS('L4'!$M$20:$M$97,">="&DATE(2026,8,1),'L4'!$M$20:$M$97,"<"&DATE(2026,9,1),'L4'!$O$20:$O$97,"AVANCE 80*") -> 5 | S45: =COUNTIFS('L4'!$M$20:$M$97,">="&DATE(2026,8,1),'L4'!$M$20:$M$97,"<"&DATE(2026,9,1),'L4'!$O$20:$O$97,"AVANCE 50*") -> 0 | T45: =COUNTIFS('L4'!$M$20:$M$97,">="&DATE(2026,8,1),'L4'!$M$20:$M$97,"<"&DATE(2026,9,1),'L4'!$O$20:$O$97,"MENOR*") -> 2
Q46: Sep | R46: =COUNTIFS('L4'!$M$20:$M$97,">="&DATE(2026,9,1),'L4'!$M$20:$M$97,"<"&DATE(2026,10,1),'L4'!$O$20:$O$97,"AVANCE 80*") -> 2 | S46: =COUNTIFS('L4'!$M$20:$M$97,">="&DATE(2026,9,1),'L4'!$M$20:$M$97,"<"&DATE(2026,10,1),'L4'!$O$20:$O$97,"AVANCE 50*") -> 4 | T46: =COUNTIFS('L4'!$M$20:$M$97,">="&DATE(2026,9,1),'L4'!$M$20:$M$97,"<"&DATE(2026,10,1),'L4'!$O$20:$O$97,"MENOR*") -> 4
Q47: Oct | R47: =COUNTIFS('L4'!$M$20:$M$97,">="&DATE(2026,10,1),'L4'!$M$20:$M$97,"<"&DATE(2026,11,1),'L4'!$O$20:$O$97,"AVANCE 80*") -> 3 | S47: =COUNTIFS('L4'!$M$20:$M$97,">="&DATE(2026,10,1),'L4'!$M$20:$M$97,"<"&DATE(2026,11,1),'L4'!$O$20:$O$97,"AVANCE 50*") -> 4 | T47: =COUNTIFS('L4'!$M$20:$M$97,">="&DATE(2026,10,1),'L4'!$M$20:$M$97,"<"&DATE(2026,11,1),'L4'!$O$20:$O$97,"MENOR*") -> 7
Q48: Nov | R48: =COUNTIFS('L4'!$M$20:$M$97,">="&DATE(2026,11,1),'L4'!$M$20:$M$97,"<"&DATE(2026,12,1),'L4'!$O$20:$O$97,"AVANCE 80*") -> 2 | S48: =COUNTIFS('L4'!$M$20:$M$97,">="&DATE(2026,11,1),'L4'!$M$20:$M$97,"<"&DATE(2026,12,1),'L4'!$O$20:$O$97,"AVANCE 50*") -> 6 | T48: =COUNTIFS('L4'!$M$20:$M$97,">="&DATE(2026,11,1),'L4'!$M$20:$M$97,"<"&DATE(2026,12,1),'L4'!$O$20:$O$97,"MENOR*") -> 16
Q49: Dic | R49: =COUNTIFS('L4'!$M$20:$M$97,">="&DATE(2026,12,1),'L4'!$M$20:$M$97,"<"&DATE(2027,1,1),'L4'!$O$20:$O$97,"AVANCE 80*") -> 1 | S49: =COUNTIFS('L4'!$M$20:$M$97,">="&DATE(2026,12,1),'L4'!$M$20:$M$97,"<"&DATE(2027,1,1),'L4'!$O$20:$O$97,"AVANCE 50*") -> 3 | T49: =COUNTIFS('L4'!$M$20:$M$97,">="&DATE(2026,12,1),'L4'!$M$20:$M$97,"<"&DATE(2027,1,1),'L4'!$O$20:$O$97,"MENOR*") -> 12
Q52: CARGA POR DEPENDENCIA RESPONSABLE
Q53: Dependencia | R53: ≥ 80% | S53: 50–79% | T53: < 50% | U53: Total
Q54: Planeación | R54: =COUNTIFS('L4'!$I$20:$I$97,"*laneación*",'L4'!$O$20:$O$97,"AVANCE 80*") -> 7 | S54: =COUNTIFS('L4'!$I$20:$I$97,"*laneación*",'L4'!$O$20:$O$97,"AVANCE 50*") -> 2 | T54: =COUNTIFS('L4'!$I$20:$I$97,"*laneación*",'L4'!$O$20:$O$97,"MENOR*") -> 9 | U54: =SUM(R54:T54) -> 18
Q55: Talento Humano | R55: =COUNTIFS('L4'!$I$20:$I$97,"*alento*",'L4'!$O$20:$O$97,"AVANCE 80*") -> 2 | S55: =COUNTIFS('L4'!$I$20:$I$97,"*alento*",'L4'!$O$20:$O$97,"AVANCE 50*") -> 7 | T55: =COUNTIFS('L4'!$I$20:$I$97,"*alento*",'L4'!$O$20:$O$97,"MENOR*") -> 4 | U55: =SUM(R55:T55) -> 13
Q56: Rectoría | R56: =COUNTIFS('L4'!$I$20:$I$97,"*ectoría*",'L4'!$O$20:$O$97,"AVANCE 80*") -> 0 | S56: =COUNTIFS('L4'!$I$20:$I$97,"*ectoría*",'L4'!$O$20:$O$97,"AVANCE 50*") -> 1 | T56: =COUNTIFS('L4'!$I$20:$I$97,"*ectoría*",'L4'!$O$20:$O$97,"MENOR*") -> 7 | U56: =SUM(R56:T56) -> 8
...
